BEGIN:VCALENDAR
VERSION:2.0
PRODID:-//Tenisový klub Březnice - ECPv5.14.0.1//NONSGML v1.0//EN
CALSCALE:GREGORIAN
METHOD:PUBLISH
X-WR-CALNAME:Tenisový klub Březnice
X-ORIGINAL-URL:https://tenis-breznice.cz
X-WR-CALDESC:Events for Tenisový klub Březnice
REFRESH-INTERVAL;VALUE=DURATION:PT1H
X-Robots-Tag:noindex
X-PUBLISHED-TTL:PT1H
BEGIN:VTIMEZONE
TZID:Europe/Prague
BEGIN:DAYLIGHT
TZOFFSETFROM:+0100
TZOFFSETTO:+0200
TZNAME:CEST
DTSTART:20220327T010000
END:DAYLIGHT
BEGIN:STANDARD
TZOFFSETFROM:+0200
TZOFFSETTO:+0100
TZNAME:CET
DTSTART:20221030T010000
END:STANDARD
END:VTIMEZONE
BEGIN:VEVENT
DTSTART;TZID=Europe/Prague:20220619T080000
DTEND;TZID=Europe/Prague:20220619T150000
DTSTAMP:20260423T005009
CREATED:20220217T123405Z
LAST-MODIFIED:20220217T123405Z
UID:514-1655625600-1655650800@tenis-breznice.cz
SUMMARY:Soutěž družstev dorost
DESCRIPTION:
URL:https://tenis-breznice.cz/events/soutez-druzstev-dorost-6/
ATTACH;FMTTYPE=image/png:https://tenis-breznice.cz/wp-content/uploads/2022/02/csts.png
END:VEVENT
END:VCALENDAR