BEGIN:VCALENDAR
VERSION:2.0
PRODID:-//Tenisový klub Březnice - ECPv5.14.0.1//NONSGML v1.0//EN
CALSCALE:GREGORIAN
METHOD:PUBLISH
X-WR-CALNAME:Tenisový klub Březnice
X-ORIGINAL-URL:https://tenis-breznice.cz
X-WR-CALDESC:Events for Tenisový klub Březnice
REFRESH-INTERVAL;VALUE=DURATION:PT1H
X-Robots-Tag:noindex
X-PUBLISHED-TTL:PT1H
BEGIN:VTIMEZONE
TZID:Europe/Prague
BEGIN:DAYLIGHT
TZOFFSETFROM:+0100
TZOFFSETTO:+0200
TZNAME:CEST
DTSTART:20230326T010000
END:DAYLIGHT
BEGIN:STANDARD
TZOFFSETFROM:+0200
TZOFFSETTO:+0100
TZNAME:CET
DTSTART:20231029T010000
END:STANDARD
END:VTIMEZONE
BEGIN:VEVENT
DTSTART;TZID=Europe/Prague:20230331T180000
DTEND;TZID=Europe/Prague:20230331T230000
DTSTAMP:20260422T105128
CREATED:20230309T163041Z
LAST-MODIFIED:20230309T163203Z
UID:633-1680285600-1680303600@tenis-breznice.cz
SUMMARY:valná hromada TK Březnice
DESCRIPTION:Pozvánka \nna Valnou hromadu Tenisového klubu Březnice v pátek 31.3.2023 od 18.00 hod. v klubovně TK. \n  \nPředmětem jednání valné hromady bude: \n· informace o činnosti TK Březnice v roce 2022 a výhled na rok 2023 \n· informace o mistrovských soutěžích a účasti družstev TK Březnice v roce 2022 \n· informace o hospodaření tenisového klubu za rok 2022 \n· volba členů Výboru TK Březnice (po 5 letech mandátu – nová volba) \n· informace revizní komise \n· diskuse \n  \nza výbor Tenisového klubu Březnice Robert Barták
URL:https://tenis-breznice.cz/events/valna-hromada-tk-breznice/
END:VEVENT
END:VCALENDAR