BEGIN:VCALENDAR
VERSION:2.0
PRODID:-//Tenisový klub Březnice - ECPv5.14.0.1//NONSGML v1.0//EN
CALSCALE:GREGORIAN
METHOD:PUBLISH
X-WR-CALNAME:Tenisový klub Březnice
X-ORIGINAL-URL:https://tenis-breznice.cz
X-WR-CALDESC:Events for Tenisový klub Březnice
REFRESH-INTERVAL;VALUE=DURATION:PT1H
X-Robots-Tag:noindex
X-PUBLISHED-TTL:PT1H
BEGIN:VTIMEZONE
TZID:Europe/Prague
BEGIN:DAYLIGHT
TZOFFSETFROM:+0100
TZOFFSETTO:+0200
TZNAME:CEST
DTSTART:20230326T010000
END:DAYLIGHT
BEGIN:STANDARD
TZOFFSETFROM:+0200
TZOFFSETTO:+0100
TZNAME:CET
DTSTART:20231029T010000
END:STANDARD
END:VTIMEZONE
BEGIN:VEVENT
DTSTART;TZID=Europe/Prague:20230701T080000
DTEND;TZID=Europe/Prague:20230710T170000
DTSTAMP:20260420T063954
CREATED:20230623T053817Z
LAST-MODIFIED:20230623T053838Z
UID:688-1688198400-1689008400@tenis-breznice.cz
SUMMARY:Turnaje TK Březnice
DESCRIPTION:
URL:https://tenis-breznice.cz/events/turnaje-tk-breznice/
END:VEVENT
BEGIN:VEVENT
DTSTART;TZID=Europe/Prague:20230710T080000
DTEND;TZID=Europe/Prague:20230710T180000
DTSTAMP:20260420T063954
CREATED:20230623T052250Z
LAST-MODIFIED:20230707T101250Z
UID:667-1688976000-1689012000@tenis-breznice.cz
SUMMARY:Pronájem kurtu č.1 pro Tenis Akademie Bálek
DESCRIPTION:Pronájem tenisového kurtu č. 1 pro Tenis Akademie Bálek
URL:https://tenis-breznice.cz/events/667/
END:VEVENT
END:VCALENDAR