BEGIN:VCALENDAR
VERSION:2.0
PRODID:-//Tenisový klub Březnice - ECPv5.14.0.1//NONSGML v1.0//EN
CALSCALE:GREGORIAN
METHOD:PUBLISH
X-WR-CALNAME:Tenisový klub Březnice
X-ORIGINAL-URL:https://tenis-breznice.cz
X-WR-CALDESC:Events for Tenisový klub Březnice
REFRESH-INTERVAL;VALUE=DURATION:PT1H
X-Robots-Tag:noindex
X-PUBLISHED-TTL:PT1H
BEGIN:VTIMEZONE
TZID:Europe/Prague
BEGIN:DAYLIGHT
TZOFFSETFROM:+0100
TZOFFSETTO:+0200
TZNAME:CEST
DTSTART:20230326T010000
END:DAYLIGHT
BEGIN:STANDARD
TZOFFSETFROM:+0200
TZOFFSETTO:+0100
TZNAME:CET
DTSTART:20231029T010000
END:STANDARD
END:VTIMEZONE
BEGIN:VEVENT
DTSTART;TZID=Europe/Prague:20230828T080000
DTEND;TZID=Europe/Prague:20230828T170000
DTSTAMP:20260420T034903
CREATED:20230826T071457Z
LAST-MODIFIED:20230826T071457Z
UID:715-1693209600-1693242000@tenis-breznice.cz
SUMMARY:Tenisový turnaj starších žáků - rezervace všech kurtů
DESCRIPTION:
URL:https://tenis-breznice.cz/events/tenisovy-turnaj-starsich-zaku-rezervace-vsech-kurtu/
END:VEVENT
END:VCALENDAR