BEGIN:VCALENDAR
VERSION:2.0
PRODID:-//Tenisový klub Březnice - ECPv5.14.0.1//NONSGML v1.0//EN
CALSCALE:GREGORIAN
METHOD:PUBLISH
X-WR-CALNAME:Tenisový klub Březnice
X-ORIGINAL-URL:https://tenis-breznice.cz
X-WR-CALDESC:Events for Tenisový klub Březnice
REFRESH-INTERVAL;VALUE=DURATION:PT1H
X-Robots-Tag:noindex
X-PUBLISHED-TTL:PT1H
BEGIN:VTIMEZONE
TZID:Europe/Prague
BEGIN:DAYLIGHT
TZOFFSETFROM:+0100
TZOFFSETTO:+0200
TZNAME:CEST
DTSTART:20230326T010000
END:DAYLIGHT
BEGIN:STANDARD
TZOFFSETFROM:+0200
TZOFFSETTO:+0100
TZNAME:CET
DTSTART:20231029T010000
END:STANDARD
END:VTIMEZONE
BEGIN:VEVENT
DTSTART;TZID=Europe/Prague:20230917T090000
DTEND;TZID=Europe/Prague:20230917T123000
DTSTAMP:20260420T034928
CREATED:20230826T071242Z
LAST-MODIFIED:20230826T071250Z
UID:710-1694941200-1694953800@tenis-breznice.cz
SUMMARY:rezervace kurtu č.1
DESCRIPTION:Rezervace kurtu 1 \nTenis Akademie Bálek \nNEDĚLE\n17. 9. 2023\n9 – 12.15 h \nRobert Barták \npředseda Výboru TK Březnice\nviz kalendář akcí  \n\nHome
URL:https://tenis-breznice.cz/events/rezervace-kurtu-c-1/
END:VEVENT
END:VCALENDAR