BEGIN:VCALENDAR
VERSION:2.0
PRODID:-//Tenisový klub Březnice - ECPv5.14.0.1//NONSGML v1.0//EN
CALSCALE:GREGORIAN
METHOD:PUBLISH
X-WR-CALNAME:Tenisový klub Březnice
X-ORIGINAL-URL:https://tenis-breznice.cz
X-WR-CALDESC:Events for Tenisový klub Březnice
REFRESH-INTERVAL;VALUE=DURATION:PT1H
X-Robots-Tag:noindex
X-PUBLISHED-TTL:PT1H
BEGIN:VTIMEZONE
TZID:Europe/Prague
BEGIN:DAYLIGHT
TZOFFSETFROM:+0100
TZOFFSETTO:+0200
TZNAME:CEST
DTSTART:20220327T010000
END:DAYLIGHT
BEGIN:STANDARD
TZOFFSETFROM:+0200
TZOFFSETTO:+0100
TZNAME:CET
DTSTART:20221030T010000
END:STANDARD
END:VTIMEZONE
BEGIN:VEVENT
DTSTART;TZID=Europe/Prague:20220501T080000
DTEND;TZID=Europe/Prague:20220501T150000
DTSTAMP:20260423T005047
CREATED:20220217T122744Z
LAST-MODIFIED:20220217T122744Z
UID:504-1651392000-1651417200@tenis-breznice.cz
SUMMARY:Soutěž družstev dorost
DESCRIPTION:
URL:https://tenis-breznice.cz/events/soutez-druzstev-dorost/
ATTACH;FMTTYPE=image/png:https://tenis-breznice.cz/wp-content/uploads/2022/02/csts.png
END:VEVENT
BEGIN:VEVENT
DTSTART;TZID=Europe/Prague:20220507T080000
DTEND;TZID=Europe/Prague:20220507T160000
DTSTAMP:20260423T005047
CREATED:20220217T121608Z
LAST-MODIFIED:20220217T121608Z
UID:492-1651910400-1651939200@tenis-breznice.cz
SUMMARY:Soutěž družstev dospělí a starší žáci
DESCRIPTION:
URL:https://tenis-breznice.cz/events/soutez-druzstev-dospeli-a-starsi-zaci-2/
ATTACH;FMTTYPE=image/png:https://tenis-breznice.cz/wp-content/uploads/2022/02/csts.png
END:VEVENT
BEGIN:VEVENT
DTSTART;TZID=Europe/Prague:20220508T080000
DTEND;TZID=Europe/Prague:20220508T150000
DTSTAMP:20260423T005047
CREATED:20220217T122859Z
LAST-MODIFIED:20220217T122859Z
UID:506-1651996800-1652022000@tenis-breznice.cz
SUMMARY:Soutěž družstev dorost
DESCRIPTION:
URL:https://tenis-breznice.cz/events/soutez-druzstev-dorost-2/
ATTACH;FMTTYPE=image/png:https://tenis-breznice.cz/wp-content/uploads/2022/02/csts.png
END:VEVENT
BEGIN:VEVENT
DTSTART;TZID=Europe/Prague:20220514T080000
DTEND;TZID=Europe/Prague:20220514T160000
DTSTAMP:20260423T005047
CREATED:20220217T121651Z
LAST-MODIFIED:20220217T122013Z
UID:494-1652515200-1652544000@tenis-breznice.cz
SUMMARY:Soutěž družstev dospělí a starší žáci
DESCRIPTION:
URL:https://tenis-breznice.cz/events/soutez-druzstev-dospeli-a-starsi-zaci-3/
ATTACH;FMTTYPE=image/png:https://tenis-breznice.cz/wp-content/uploads/2022/02/csts.png
END:VEVENT
BEGIN:VEVENT
DTSTART;TZID=Europe/Prague:20220515T080000
DTEND;TZID=Europe/Prague:20220515T150000
DTSTAMP:20260423T005047
CREATED:20220217T123000Z
LAST-MODIFIED:20220217T123000Z
UID:508-1652601600-1652626800@tenis-breznice.cz
SUMMARY:Soutěž družstev dorost
DESCRIPTION:
URL:https://tenis-breznice.cz/events/soutez-druzstev-dorost-3/
ATTACH;FMTTYPE=image/png:https://tenis-breznice.cz/wp-content/uploads/2022/02/csts.png
END:VEVENT
BEGIN:VEVENT
DTSTART;TZID=Europe/Prague:20220523T170000
DTEND;TZID=Europe/Prague:20220523T190000
DTSTAMP:20260423T005047
CREATED:20220523T093911Z
LAST-MODIFIED:20220523T094128Z
UID:580-1653325200-1653332400@tenis-breznice.cz
SUMMARY:trénink dětí na kurtech č. 1 a 2
DESCRIPTION:trénink dětí na kurtech č. 1 a 2
URL:https://tenis-breznice.cz/events/580/
END:VEVENT
BEGIN:VEVENT
DTSTART;TZID=Europe/Prague:20220525T150000
DTEND;TZID=Europe/Prague:20220525T170000
DTSTAMP:20260423T005047
CREATED:20220523T094038Z
LAST-MODIFIED:20220523T094038Z
UID:582-1653490800-1653498000@tenis-breznice.cz
SUMMARY:trénink dětí na kurtech č. 1 a 2
DESCRIPTION:trénink dětí na kurtech č. 1 a 2
URL:https://tenis-breznice.cz/events/trenink-deti-na-kurtech-c-1-a-2/
END:VEVENT
BEGIN:VEVENT
DTSTART;TZID=Europe/Prague:20220528T080000
DTEND;TZID=Europe/Prague:20220528T160000
DTSTAMP:20260423T005047
CREATED:20220217T122103Z
LAST-MODIFIED:20220217T122103Z
UID:496-1653724800-1653753600@tenis-breznice.cz
SUMMARY:Soutěž družstev dospělí a starší žáci
DESCRIPTION:
URL:https://tenis-breznice.cz/events/soutez-druzstev-dospeli-a-starsi-zaci-4/
ATTACH;FMTTYPE=image/png:https://tenis-breznice.cz/wp-content/uploads/2022/02/csts.png
END:VEVENT
BEGIN:VEVENT
DTSTART;TZID=Europe/Prague:20220529T080000
DTEND;TZID=Europe/Prague:20220529T150000
DTSTAMP:20260423T005047
CREATED:20220217T123037Z
LAST-MODIFIED:20220217T123222Z
UID:510-1653811200-1653836400@tenis-breznice.cz
SUMMARY:Soutěž družstev dorost
DESCRIPTION:
URL:https://tenis-breznice.cz/events/soutez-druzstev-dorost-4/
ATTACH;FMTTYPE=image/png:https://tenis-breznice.cz/wp-content/uploads/2022/02/csts.png
END:VEVENT
BEGIN:VEVENT
DTSTART;TZID=Europe/Prague:20220530T170000
DTEND;TZID=Europe/Prague:20220530T190000
DTSTAMP:20260423T005047
CREATED:20220523T094159Z
LAST-MODIFIED:20220523T094159Z
UID:585-1653930000-1653937200@tenis-breznice.cz
SUMMARY:trénink dětí na kurtech č. 1 a 2
DESCRIPTION:trénink dětí na kurtech č. 1 a 2
URL:https://tenis-breznice.cz/events/trenink-deti-na-kurtech-c-1-a-2-2/
END:VEVENT
END:VCALENDAR