BEGIN:VCALENDAR
VERSION:2.0
PRODID:-//Tenisový klub Březnice - ECPv5.14.0.1//NONSGML v1.0//EN
CALSCALE:GREGORIAN
METHOD:PUBLISH
X-WR-CALNAME:Tenisový klub Březnice
X-ORIGINAL-URL:https://tenis-breznice.cz
X-WR-CALDESC:Events for Tenisový klub Březnice
REFRESH-INTERVAL;VALUE=DURATION:PT1H
X-Robots-Tag:noindex
X-PUBLISHED-TTL:PT1H
BEGIN:VTIMEZONE
TZID:Europe/Prague
BEGIN:DAYLIGHT
TZOFFSETFROM:+0100
TZOFFSETTO:+0200
TZNAME:CEST
DTSTART:20220327T010000
END:DAYLIGHT
BEGIN:STANDARD
TZOFFSETFROM:+0200
TZOFFSETTO:+0100
TZNAME:CET
DTSTART:20221030T010000
END:STANDARD
END:VTIMEZONE
BEGIN:VEVENT
DTSTART;TZID=Europe/Prague:20220601T150000
DTEND;TZID=Europe/Prague:20220601T170000
DTSTAMP:20260422T233003
CREATED:20220523T094228Z
LAST-MODIFIED:20220523T094228Z
UID:587-1654095600-1654102800@tenis-breznice.cz
SUMMARY:trénink dětí na kurtech č. 1 a 2
DESCRIPTION:trénink dětí na kurtech č. 1 a 2
URL:https://tenis-breznice.cz/events/trenink-deti-na-kurtech-c-1-a-2-3/
END:VEVENT
BEGIN:VEVENT
DTSTART;TZID=Europe/Prague:20220604T080000
DTEND;TZID=Europe/Prague:20220604T160000
DTSTAMP:20260422T233003
CREATED:20220217T122207Z
LAST-MODIFIED:20220217T122207Z
UID:498-1654329600-1654358400@tenis-breznice.cz
SUMMARY:Soutěž družstev dospělí a starší žáci
DESCRIPTION:
URL:https://tenis-breznice.cz/events/soutez-druzstev-dospeli-a-starsi-zaci-5/
ATTACH;FMTTYPE=image/png:https://tenis-breznice.cz/wp-content/uploads/2022/02/csts.png
END:VEVENT
BEGIN:VEVENT
DTSTART;TZID=Europe/Prague:20220605T080000
DTEND;TZID=Europe/Prague:20220605T150000
DTSTAMP:20260422T233003
CREATED:20220217T123317Z
LAST-MODIFIED:20220217T123318Z
UID:512-1654416000-1654441200@tenis-breznice.cz
SUMMARY:Soutěž družstev dorost
DESCRIPTION:
URL:https://tenis-breznice.cz/events/soutez-druzstev-dorost-5/
ATTACH;FMTTYPE=image/png:https://tenis-breznice.cz/wp-content/uploads/2022/02/csts.png
END:VEVENT
BEGIN:VEVENT
DTSTART;TZID=Europe/Prague:20220606T170000
DTEND;TZID=Europe/Prague:20220606T190000
DTSTAMP:20260422T233003
CREATED:20220523T094315Z
LAST-MODIFIED:20220523T094315Z
UID:589-1654534800-1654542000@tenis-breznice.cz
SUMMARY:trénink dětí na kurtech č. 1 a 2
DESCRIPTION:trénink dětí na kurtech č. 1 a 2
URL:https://tenis-breznice.cz/events/trenink-deti-na-kurtech-c-1-a-2-4/
END:VEVENT
BEGIN:VEVENT
DTSTART;TZID=Europe/Prague:20220608T150000
DTEND;TZID=Europe/Prague:20220608T170000
DTSTAMP:20260422T233003
CREATED:20220523T094340Z
LAST-MODIFIED:20220523T094340Z
UID:591-1654700400-1654707600@tenis-breznice.cz
SUMMARY:trénink dětí na kurtech č. 1 a 2
DESCRIPTION:trénink dětí na kurtech č. 1 a 2
URL:https://tenis-breznice.cz/events/trenink-deti-na-kurtech-c-1-a-2-5/
END:VEVENT
BEGIN:VEVENT
DTSTART;TZID=Europe/Prague:20220610T190000
DTEND;TZID=Europe/Prague:20220610T233000
DTSTAMP:20260422T233003
CREATED:20220523T094833Z
LAST-MODIFIED:20220523T094833Z
UID:605-1654887600-1654903800@tenis-breznice.cz
SUMMARY:letní hudební turné open-air Tenisové kapely
DESCRIPTION:letní hudební turné open-air Tenisové kapely
URL:https://tenis-breznice.cz/events/letni-hudebni-turne-open-air-tenisove-kapely/
END:VEVENT
BEGIN:VEVENT
DTSTART;TZID=Europe/Prague:20220613T170000
DTEND;TZID=Europe/Prague:20220613T190000
DTSTAMP:20260422T233003
CREATED:20220523T094445Z
LAST-MODIFIED:20220523T094445Z
UID:593-1655139600-1655146800@tenis-breznice.cz
SUMMARY:trénink dětí na kurtech č. 1 a 2
DESCRIPTION:trénink dětí na kurtech č. 1 a 2
URL:https://tenis-breznice.cz/events/trenink-deti-na-kurtech-c-1-a-2-6/
END:VEVENT
BEGIN:VEVENT
DTSTART;TZID=Europe/Prague:20220615T150000
DTEND;TZID=Europe/Prague:20220615T170000
DTSTAMP:20260422T233003
CREATED:20220523T094506Z
LAST-MODIFIED:20220523T094506Z
UID:595-1655305200-1655312400@tenis-breznice.cz
SUMMARY:trénink dětí na kurtech č. 1 a 2
DESCRIPTION:trénink dětí na kurtech č. 1 a 2
URL:https://tenis-breznice.cz/events/trenink-deti-na-kurtech-c-1-a-2-7/
END:VEVENT
BEGIN:VEVENT
DTSTART;TZID=Europe/Prague:20220618T080000
DTEND;TZID=Europe/Prague:20220618T160000
DTSTAMP:20260422T233003
CREATED:20220217T122246Z
LAST-MODIFIED:20220217T122246Z
UID:500-1655539200-1655568000@tenis-breznice.cz
SUMMARY:Soutěž družstev dospělí a starší žáci
DESCRIPTION:
URL:https://tenis-breznice.cz/events/soutez-druzstev-dospeli-a-starsi-zaci-6/
ATTACH;FMTTYPE=image/png:https://tenis-breznice.cz/wp-content/uploads/2022/02/csts.png
END:VEVENT
BEGIN:VEVENT
DTSTART;TZID=Europe/Prague:20220619T080000
DTEND;TZID=Europe/Prague:20220619T150000
DTSTAMP:20260422T233003
CREATED:20220217T123405Z
LAST-MODIFIED:20220217T123405Z
UID:514-1655625600-1655650800@tenis-breznice.cz
SUMMARY:Soutěž družstev dorost
DESCRIPTION:
URL:https://tenis-breznice.cz/events/soutez-druzstev-dorost-6/
ATTACH;FMTTYPE=image/png:https://tenis-breznice.cz/wp-content/uploads/2022/02/csts.png
END:VEVENT
BEGIN:VEVENT
DTSTART;TZID=Europe/Prague:20220620T170000
DTEND;TZID=Europe/Prague:20220620T190000
DTSTAMP:20260422T233003
CREATED:20220523T094532Z
LAST-MODIFIED:20220523T094532Z
UID:597-1655744400-1655751600@tenis-breznice.cz
SUMMARY:trénink dětí na kurtech č. 1 a 2
DESCRIPTION:trénink dětí na kurtech č. 1 a 2
URL:https://tenis-breznice.cz/events/trenink-deti-na-kurtech-c-1-a-2-8/
END:VEVENT
BEGIN:VEVENT
DTSTART;TZID=Europe/Prague:20220622T150000
DTEND;TZID=Europe/Prague:20220622T170000
DTSTAMP:20260422T233003
CREATED:20220523T094554Z
LAST-MODIFIED:20220523T094554Z
UID:599-1655910000-1655917200@tenis-breznice.cz
SUMMARY:trénink dětí na kurtech č. 1 a 2
DESCRIPTION:trénink dětí na kurtech č. 1 a 2
URL:https://tenis-breznice.cz/events/trenink-deti-na-kurtech-c-1-a-2-9/
END:VEVENT
BEGIN:VEVENT
DTSTART;TZID=Europe/Prague:20220625T080000
DTEND;TZID=Europe/Prague:20220625T170000
DTSTAMP:20260422T233003
CREATED:20220217T122330Z
LAST-MODIFIED:20220217T122330Z
UID:502-1656144000-1656176400@tenis-breznice.cz
SUMMARY:Soutěž družstev dospělí a starší žáci
DESCRIPTION:
URL:https://tenis-breznice.cz/events/soutez-druzstev-dospeli-a-starsi-zaci-7/
ATTACH;FMTTYPE=image/png:https://tenis-breznice.cz/wp-content/uploads/2022/02/csts.png
END:VEVENT
BEGIN:VEVENT
DTSTART;TZID=Europe/Prague:20220626T080000
DTEND;TZID=Europe/Prague:20220626T150000
DTSTAMP:20260422T233003
CREATED:20220217T123504Z
LAST-MODIFIED:20220217T123504Z
UID:516-1656230400-1656255600@tenis-breznice.cz
SUMMARY:Soutěž družstev dorost
DESCRIPTION:
URL:https://tenis-breznice.cz/events/soutez-druzstev-dorost-7/
ATTACH;FMTTYPE=image/png:https://tenis-breznice.cz/wp-content/uploads/2022/02/csts.png
END:VEVENT
BEGIN:VEVENT
DTSTART;TZID=Europe/Prague:20220626T150100
DTEND;TZID=Europe/Prague:20220626T170000
DTSTAMP:20260422T233003
CREATED:20220221T132530Z
LAST-MODIFIED:20220221T132611Z
UID:537-1656255660-1656262800@tenis-breznice.cz
SUMMARY:Březnický Grandslam - finále
DESCRIPTION:
URL:https://tenis-breznice.cz/events/breznicky-grandslam-finale/
END:VEVENT
BEGIN:VEVENT
DTSTART;TZID=Europe/Prague:20220627T170000
DTEND;TZID=Europe/Prague:20220627T190000
DTSTAMP:20260422T233003
CREATED:20220523T094619Z
LAST-MODIFIED:20220523T094619Z
UID:601-1656349200-1656356400@tenis-breznice.cz
SUMMARY:trénink dětí na kurtech č. 1 a 2
DESCRIPTION:trénink dětí na kurtech č. 1 a 2
URL:https://tenis-breznice.cz/events/trenink-deti-na-kurtech-c-1-a-2-10/
END:VEVENT
BEGIN:VEVENT
DTSTART;TZID=Europe/Prague:20220629T150000
DTEND;TZID=Europe/Prague:20220629T170000
DTSTAMP:20260422T233003
CREATED:20220523T094656Z
LAST-MODIFIED:20220523T094656Z
UID:603-1656514800-1656522000@tenis-breznice.cz
SUMMARY:trénink dětí na kurtech č. 1 a 2
DESCRIPTION:trénink dětí na kurtech č. 1 a 2
URL:https://tenis-breznice.cz/events/trenink-deti-na-kurtech-c-1-a-2-11/
END:VEVENT
END:VCALENDAR