BEGIN:VCALENDAR
VERSION:2.0
PRODID:-//Tenisový klub Březnice - ECPv5.14.0.1//NONSGML v1.0//EN
CALSCALE:GREGORIAN
METHOD:PUBLISH
X-WR-CALNAME:Tenisový klub Březnice
X-ORIGINAL-URL:https://tenis-breznice.cz
X-WR-CALDESC:Events for Tenisový klub Březnice
REFRESH-INTERVAL;VALUE=DURATION:PT1H
X-Robots-Tag:noindex
X-PUBLISHED-TTL:PT1H
BEGIN:VTIMEZONE
TZID:Europe/Prague
BEGIN:DAYLIGHT
TZOFFSETFROM:+0100
TZOFFSETTO:+0200
TZNAME:CEST
DTSTART:20220327T010000
END:DAYLIGHT
BEGIN:STANDARD
TZOFFSETFROM:+0200
TZOFFSETTO:+0100
TZNAME:CET
DTSTART:20221030T010000
END:STANDARD
END:VTIMEZONE
BEGIN:VEVENT
DTSTART;TZID=Europe/Prague:20220902T120000
DTEND;TZID=Europe/Prague:20220902T170000
DTSTAMP:20260422T190836
CREATED:20220506T133844Z
LAST-MODIFIED:20220506T133844Z
UID:578-1662120000-1662138000@tenis-breznice.cz
SUMMARY:Tenisový turnaj lékaři
DESCRIPTION:Tenisový turnaj lékaři
URL:https://tenis-breznice.cz/events/tenisovy-turnaj-lekari/
END:VEVENT
BEGIN:VEVENT
DTSTART;VALUE=DATE:20220903
DTEND;VALUE=DATE:20220904
DTSTAMP:20260422T190836
CREATED:20220221T132210Z
LAST-MODIFIED:20220221T132210Z
UID:533-1662163200-1662249599@tenis-breznice.cz
SUMMARY:RoubíkCup
DESCRIPTION:Tradiční singlový turnaj pro všechny hráče z blízkého i dalekého okolí.
URL:https://tenis-breznice.cz/events/roubikcup/
END:VEVENT
BEGIN:VEVENT
DTSTART;VALUE=DATE:20220910
DTEND;VALUE=DATE:20220911
DTSTAMP:20260422T190836
CREATED:20220221T132347Z
LAST-MODIFIED:20220221T132347Z
UID:535-1662768000-1662854399@tenis-breznice.cz
SUMMARY:Masters Open Double
DESCRIPTION:Tradiční turnaj čtyřher mužů.
URL:https://tenis-breznice.cz/events/masters-open-double/
END:VEVENT
BEGIN:VEVENT
DTSTART;VALUE=DATE:20220917
DTEND;VALUE=DATE:20220918
DTSTAMP:20260422T190836
CREATED:20220901T130827Z
LAST-MODIFIED:20220901T130827Z
UID:622-1663372800-1663459199@tenis-breznice.cz
SUMMARY:Tenisový turnaj ženy
DESCRIPTION:
URL:https://tenis-breznice.cz/events/tenisovy-turnaj-zeny/
END:VEVENT
END:VCALENDAR